BEGIN:VCALENDAR
VERSION:2.0
PRODID:-//wp-events-plugin.com//7.2.3.1//EN
TZID:Europe/Berlin
X-WR-TIMEZONE:Europe/Berlin
BEGIN:VEVENT
UID:13@elly-obermair.de
DTSTART;TZID=Europe/Berlin;VALUE=DATE:20260925
DTEND;TZID=Europe/Berlin;VALUE=DATE:20261005
DTSTAMP:20251128T174854Z
URL:https://elly-obermair.de/veranstaltungen/zehn-tage-heilfasten-zeit-fue
 r-regeneration-und-gesundheitsvorsorge/
SUMMARY:Zehn Tage Heilfasten – Zeit für Regeneration und Gesundheitsvors
 orge 2026
DESCRIPTION:Modifiziertes Heilfasten nach Buchinger – einfach und doch un
 glaublich wirkungsvoll. Einführungsveranstaltung – Starterpaket – Aus
 flüge – Fachvorträge – eine Fussreflexzonenbehandlung – kleine Gru
 ppe.
ATTACH;FMTTYPE=image/jpeg:https://elly-obermair.de/wp-content/uploads/2025
 /06/Event_06.jpg
LOCATION:Praxis für traditionell abendländische Medizin\, Dummeltshausene
 r Str. 7\, Ilmmünster\, 85304\, Deutschland
X-APPLE-STRUCTURED-LOCATION;VALUE=URI;X-ADDRESS=Dummeltshausener Str. 7\, I
 lmmünster\, 85304\, Deutschland;X-APPLE-RADIUS=100;X-TITLE=Praxis für tr
 aditionell abendländische Medizin:geo:0,0
END:VEVENT
BEGIN:VTIMEZONE
TZID:Europe/Berlin
X-LIC-LOCATION:Europe/Berlin
BEGIN:DAYLIGHT
DTSTART:20260329T030000
TZOFFSETFROM:+0100
TZOFFSETTO:+0200
TZNAME:CEST
END:DAYLIGHT
END:VTIMEZONE
END:VCALENDAR