BEGIN:VCALENDAR
VERSION:2.0
PRODID:-//wp-events-plugin.com//7.2.3.1//EN
TZID:Europe/Berlin
X-WR-TIMEZONE:Europe/Berlin
BEGIN:VEVENT
UID:11@elly-obermair.de
DTSTART;TZID=Europe/Berlin:20261128T140000
DTEND;TZID=Europe/Berlin:20261129T200000
DTSTAMP:20260216T151919Z
URL:https://elly-obermair.de/veranstaltungen/kraeutertee-verkauf-auf-dem-c
 hristkindlmarkt-scheyern/
SUMMARY:Kräutertee-Verkauf auf dem Christkindlmarkt Scheyern
DESCRIPTION:Alljährlich findet der wundervolle Weihnachtsmarkt im Innenhof
  des Kloster Scheyern statt. Von Anfang an sind die Lebenslust Kräutertee
 s mit dabei.
ATTACH;FMTTYPE=image/jpeg:https://elly-obermair.de/wp-content/uploads/2025
 /06/Event_Teestand1_1800px.jpg
LOCATION:Kloster Scheyern\, Schyrenplatz 1\, Scheyern\, 85298\, Deutschland
X-APPLE-STRUCTURED-LOCATION;VALUE=URI;X-ADDRESS=Schyrenplatz 1\, Scheyern\,
  85298\, Deutschland;X-APPLE-RADIUS=100;X-TITLE=Kloster Scheyern:geo:0,0
END:VEVENT
BEGIN:VTIMEZONE
TZID:Europe/Berlin
X-LIC-LOCATION:Europe/Berlin
BEGIN:STANDARD
DTSTART:20261025T020000
TZOFFSETFROM:+0200
TZOFFSETTO:+0100
TZNAME:CET
END:STANDARD
END:VTIMEZONE
END:VCALENDAR