BEGIN:VCALENDAR
VERSION:2.0
PRODID:-//wp-events-plugin.com//7.2.3.1//EN
TZID:Europe/Berlin
X-WR-TIMEZONE:Europe/Berlin
BEGIN:VEVENT
UID:14@elly-obermair.de
DTSTART;TZID=Europe/Berlin:20260130T190000
DTEND;TZID=Europe/Berlin:20260130T210000
DTSTAMP:20251128T174650Z
URL:https://elly-obermair.de/veranstaltungen/heilfasten-ein-vortrag/
SUMMARY:Heilfasten - Ein Vortrag
DESCRIPTION:Verständlich und anschaulich erklärt. Zum Start in die reinig
 ende Kraft des Frühlings.
ATTACH;FMTTYPE=image/jpeg:https://elly-obermair.de/wp-content/uploads/2025
 /11/Event_VortragFasten_1800px.jpg
LOCATION:Kloster Scheyern\, Tagungshaus\, Schyrenplatz 1\, Scheyern\, 85298
 \, Deutschland
X-APPLE-STRUCTURED-LOCATION;VALUE=URI;X-ADDRESS=Schyrenplatz 1\, Scheyern\,
  85298\, Deutschland;X-APPLE-RADIUS=100;X-TITLE=Kloster Scheyern\, Tagungs
 haus:geo:0,0
END:VEVENT
BEGIN:VTIMEZONE
TZID:Europe/Berlin
X-LIC-LOCATION:Europe/Berlin
BEGIN:STANDARD
DTSTART:20251026T020000
TZOFFSETFROM:+0200
TZOFFSETTO:+0100
TZNAME:CET
END:STANDARD
END:VTIMEZONE
END:VCALENDAR